BEGIN:VCALENDAR
VERSION:2.0
PRODID:-//Centro de Investigación y Creación - Facultad de Artes y Humanidades - Universidad de los Andes
CALSCALE:GREGORIAN
METHOD:PUBLISH
X-WR-CALNAME:Centro de Investigación y Creación - Facultad de Artes y Humanidades - Universidad de los Andes
X-ORIGINAL-URL:https://cic.uniandes.edu.co/evento/taller-convocatorias-de-financiacion-para-proyectos-culturales-2/
X-WR-CALDESC:Taller: Convocatorias de financiación para proyectos culturales
BEGIN:VEVENT
DTSTART:20210624T160000
DTEND:20210624T173000
SUMMARY:Taller: Convocatorias de financiación para proyectos culturales
DESCRIPTION:Dirigido a egresados de todos los programas de la Facultad, este taller tiene como fin introducir posibilidades de financiación nacional e internacional para proyectos culturales, con tips y experiencias.
LOCATION:Evento virtual
END:VEVENT
END:VCALENDAR
