BEGIN:VCALENDAR
VERSION:2.0
PRODID:-//Centro de Investigación y Creación - Facultad de Artes y Humanidades - Universidad de los Andes
CALSCALE:GREGORIAN
METHOD:PUBLISH
X-WR-CALNAME:Centro de Investigación y Creación - Facultad de Artes y Humanidades - Universidad de los Andes
X-ORIGINAL-URL:https://cic.uniandes.edu.co/evento/lanzamiento-del-libro-el-manglar-de-la-memoria-ensayos-criticos-sobre-la-obra-de-tomas-gonzalez/
X-WR-CALDESC:Lanzamiento del libro: El manglar de la memoria. Ensayos críticos sobre la obra de Tomás González
BEGIN:VEVENT
DTSTART:20210715T170000
DTEND:20210715T183000
SUMMARY:Lanzamiento del libro: El manglar de la memoria. Ensayos críticos sobre la obra de Tomás González
DESCRIPTION:Compilación de varios trabajos críticos sobre la obra de González que abordan temas transversales en su obra como la geografía, la ecología, la política el género la violencia y la historia.
LOCATION:Evento virtual
END:VEVENT
END:VCALENDAR
