BEGIN:VCALENDAR
VERSION:2.0
PRODID:-//Centro de Investigación y Creación - Facultad de Artes y Humanidades - Universidad de los Andes
CALSCALE:GREGORIAN
METHOD:PUBLISH
X-WR-CALNAME:Centro de Investigación y Creación - Facultad de Artes y Humanidades - Universidad de los Andes
X-ORIGINAL-URL:https://cic.uniandes.edu.co/evento/presentacion-del-libro-somos-hijos-del-oro/
X-WR-CALDESC:Presentación del libro: Somos hijos del Oro
BEGIN:VEVENT
DTSTART:20210805T170000
DTEND:20210805T183000
SUMMARY:Presentación del libro: Somos hijos del Oro
DESCRIPTION:
LOCATION:Evento virtual
END:VEVENT
END:VCALENDAR
