BEGIN:VCALENDAR
VERSION:2.0
PRODID:-//Centro de Investigación y Creación - Facultad de Artes y Humanidades - Universidad de los Andes
CALSCALE:GREGORIAN
METHOD:PUBLISH
X-WR-CALNAME:Centro de Investigación y Creación - Facultad de Artes y Humanidades - Universidad de los Andes
X-ORIGINAL-URL:https://cic.uniandes.edu.co/evento/presentacion-del-librobreve-cartografia-de-lugares-sin-ningun-interes/
X-WR-CALDESC:Presentación del libro: Breve cartografía de lugares sin ningún interés
BEGIN:VEVENT
DTSTART:20210811T170000
DTEND:20210811T183000
SUMMARY:Presentación del libro: Breve cartografía de lugares sin ningún interés
DESCRIPTION:
LOCATION:Evento virtual
END:VEVENT
END:VCALENDAR
