BEGIN:VCALENDAR
VERSION:2.0
PRODID:-//Centro de Investigación y Creación - Facultad de Artes y Humanidades - Universidad de los Andes
CALSCALE:GREGORIAN
METHOD:PUBLISH
X-WR-CALNAME:Centro de Investigación y Creación - Facultad de Artes y Humanidades - Universidad de los Andes
X-ORIGINAL-URL:https://cic.uniandes.edu.co/evento/debates-filbo-narrativas-artisticas-y-conflicto-armado/
X-WR-CALDESC:Debates Filbo:  Narrativas artísticas y conflicto armado
BEGIN:VEVENT
DTSTART:20210812T110000
DTEND:20210812T123000
SUMMARY:Debates Filbo:  Narrativas artísticas y conflicto armado
DESCRIPTION:
LOCATION:Evento virtual
END:VEVENT
END:VCALENDAR
