BEGIN:VCALENDAR
VERSION:2.0
PRODID:-//Centro de Investigación y Creación - Facultad de Artes y Humanidades - Universidad de los Andes
CALSCALE:GREGORIAN
METHOD:PUBLISH
X-WR-CALNAME:Centro de Investigación y Creación - Facultad de Artes y Humanidades - Universidad de los Andes
X-ORIGINAL-URL:https://cic.uniandes.edu.co/evento/carnaval-de-las-artes-y-la-cultura-paraisos/
X-WR-CALDESC:Carnaval de las artes y la cultura | Paraísos
BEGIN:VEVENT
DTSTART:20211111T170000
DTEND:20211111T183000
SUMMARY:Carnaval de las artes y la cultura | Paraísos
DESCRIPTION:José Castillo, guitarrista, tras su paso por Bomba Estéreo, decidió hace unos años aventurarse en su propia propuesta junto Andrea Roa, amiga de infancia. De esa manera nació Paraísos.
LOCATION:
END:VEVENT
END:VCALENDAR
