BEGIN:VCALENDAR
VERSION:2.0
PRODID:-//Centro de Investigación y Creación - Facultad de Artes y Humanidades - Universidad de los Andes
CALSCALE:GREGORIAN
METHOD:PUBLISH
X-WR-CALNAME:Centro de Investigación y Creación - Facultad de Artes y Humanidades - Universidad de los Andes
X-ORIGINAL-URL:https://cic.uniandes.edu.co/evento/carnaval-de-las-artes-y-la-cultura-phonoclorica/
X-WR-CALDESC:Carnaval de las artes y la cultura | Phonoclórica
BEGIN:VEVENT
DTSTART:20211112T180000
DTEND:20211112T193000
SUMMARY:Carnaval de las artes y la cultura | Phonoclórica
DESCRIPTION:Phonoclórica es el nuevo sonido de la música electropical colombiana. Con los tambores, la marimba de chonta y el beat electrónico se renuevan en su más reciente producción discográfica para hacer bailar al público de todas las latitudes.
LOCATION:Plazoleta Banderas frente al Ed. Mario Laserna, Universidad de los Andes
END:VEVENT
END:VCALENDAR
