BEGIN:VCALENDAR
VERSION:2.0
PRODID:-//Centro de Investigación y Creación - Facultad de Artes y Humanidades - Universidad de los Andes
CALSCALE:GREGORIAN
METHOD:PUBLISH
X-WR-CALNAME:Centro de Investigación y Creación - Facultad de Artes y Humanidades - Universidad de los Andes
X-ORIGINAL-URL:https://cic.uniandes.edu.co/evento/tomemonos-el-campus-inauguracion-del-edificio-k-y-la-sala-luis-caballero/
X-WR-CALDESC:¡Tomémonos el campus! | Inauguración del edificio K y la sala Luis Caballero
BEGIN:VEVENT
DTSTART:20211124T160000
DTEND:20211124T180000
SUMMARY:¡Tomémonos el campus! | Inauguración del edificio K y la sala Luis Caballero
DESCRIPTION:Miércoles 24 de noviembre - 4: 00 p.m.
LOCATION:Sala Luis Caballero Facultad de Artes y Humanidades. Edificio K, segundo piso. Universidad de los Andes
END:VEVENT
END:VCALENDAR
