BEGIN:VCALENDAR
VERSION:2.0
PRODID:-//Centro de Investigación y Creación - Facultad de Artes y Humanidades - Universidad de los Andes
CALSCALE:GREGORIAN
METHOD:PUBLISH
X-WR-CALNAME:Centro de Investigación y Creación - Facultad de Artes y Humanidades - Universidad de los Andes
X-ORIGINAL-URL:https://cic.uniandes.edu.co/evento/ciclo-volcarte-volcanes-interdisciplinarios/
X-WR-CALDESC:Ciclo Volcarte. Volcanes interdisciplinarios
BEGIN:VEVENT
DTSTART:20211129T160000
DTEND:20211203T173000
SUMMARY:Ciclo Volcarte. Volcanes interdisciplinarios
DESCRIPTION:
LOCATION:Sesión por Zoom 
END:VEVENT
END:VCALENDAR
