BEGIN:VCALENDAR
VERSION:2.0
PRODID:-//Centro de Investigación y Creación - Facultad de Artes y Humanidades - Universidad de los Andes
CALSCALE:GREGORIAN
METHOD:PUBLISH
X-WR-CALNAME:Centro de Investigación y Creación - Facultad de Artes y Humanidades - Universidad de los Andes
X-ORIGINAL-URL:https://cic.uniandes.edu.co/evento/venga-a-los-andes/
X-WR-CALDESC:Venga a Los Andes
BEGIN:VEVENT
DTSTART:20211211T073000
DTEND:20211211T153000
SUMMARY:Venga a Los Andes
DESCRIPTION:
LOCATION:
END:VEVENT
END:VCALENDAR
