BEGIN:VCALENDAR
VERSION:2.0
PRODID:-//Centro de Investigación y Creación - Facultad de Artes y Humanidades - Universidad de los Andes
CALSCALE:GREGORIAN
METHOD:PUBLISH
X-WR-CALNAME:Centro de Investigación y Creación - Facultad de Artes y Humanidades - Universidad de los Andes
X-ORIGINAL-URL:https://cic.uniandes.edu.co/evento/exposicion-luis-caballero/
X-WR-CALDESC:Exposición Luis Caballero
BEGIN:VEVENT
DTSTART:20220217T000000
DTEND:20220314T000000
SUMMARY:Exposición Luis Caballero
DESCRIPTION:Del jueves 17 de febrero al  lunes 14 de marzo del 2022
LOCATION:Sala de exposiciones Centro Cívico Universitario |  Universidad de los Andes - Carrera 1 No 19-20, Bogotá
END:VEVENT
END:VCALENDAR
