BEGIN:VCALENDAR
VERSION:2.0
PRODID:-//Centro de Investigación y Creación - Facultad de Artes y Humanidades - Universidad de los Andes
CALSCALE:GREGORIAN
METHOD:PUBLISH
X-WR-CALNAME:Centro de Investigación y Creación - Facultad de Artes y Humanidades - Universidad de los Andes
X-ORIGINAL-URL:https://cic.uniandes.edu.co/evento/socializacion-del-plan-de-desarrollo-de-facultad/
X-WR-CALDESC:Socialización del Plan de Desarrollo de Facultad
BEGIN:VEVENT
DTSTART:20220301T080000
DTEND:20220301T093000
SUMMARY:Socialización del Plan de Desarrollo de Facultad
DESCRIPTION:Martes 1 de marzo - 8:00 a.m.
LOCATION:Evento en línea
END:VEVENT
END:VCALENDAR
