BEGIN:VCALENDAR
VERSION:2.0
PRODID:-//Centro de Investigación y Creación - Facultad de Artes y Humanidades - Universidad de los Andes
CALSCALE:GREGORIAN
METHOD:PUBLISH
X-WR-CALNAME:Centro de Investigación y Creación - Facultad de Artes y Humanidades - Universidad de los Andes
X-ORIGINAL-URL:https://cic.uniandes.edu.co/evento/mesa-abierta-del-cic-tematica-paz/
X-WR-CALDESC:Mesa abierta del CIC. Temática: paz
BEGIN:VEVENT
DTSTART:20220330T120000
DTEND:20220330T140000
SUMMARY:Mesa abierta del CIC. Temática: paz
DESCRIPTION:Encuentros para promover el diálogo, las colaboraciones, la docencia colaborativa y la interacción entre colegas
LOCATION:Piso 5, edificio Tx, Universidad de los Andes, Bogotá
END:VEVENT
END:VCALENDAR
