BEGIN:VCALENDAR
VERSION:2.0
PRODID:-//Centro de Investigación y Creación - Facultad de Artes y Humanidades - Universidad de los Andes
CALSCALE:GREGORIAN
METHOD:PUBLISH
X-WR-CALNAME:Centro de Investigación y Creación - Facultad de Artes y Humanidades - Universidad de los Andes
X-ORIGINAL-URL:https://cic.uniandes.edu.co/evento/ediciones-uniandes-en-la-filbo-2022-presentacion-del-libro-fiesta-en-teusaquillo/
X-WR-CALDESC:Ediciones Uniandes en la Filbo 2022 | Presentación del libro Fiesta en Teusaquillo
BEGIN:VEVENT
DTSTART:20220423T100000
DTEND:
SUMMARY:Ediciones Uniandes en la Filbo 2022 | Presentación del libro Fiesta en Teusaquillo
DESCRIPTION:Presentación con Claudia Montilla y Luz Mary Giraldo
LOCATION:Sala de poesía María Mercedes Carranza, Corferias, Bogotá
END:VEVENT
END:VCALENDAR
