BEGIN:VCALENDAR
VERSION:2.0
PRODID:-//Centro de Investigación y Creación - Facultad de Artes y Humanidades - Universidad de los Andes
CALSCALE:GREGORIAN
METHOD:PUBLISH
X-WR-CALNAME:Centro de Investigación y Creación - Facultad de Artes y Humanidades - Universidad de los Andes
X-ORIGINAL-URL:https://cic.uniandes.edu.co/evento/primer-coloquio-de-posgrados-de-artes-y-humanidades/
X-WR-CALDESC:Primer coloquio de Posgrados de Artes y Humanidades
BEGIN:VEVENT
DTSTART:20220601T100000
DTEND:20220601T184500
SUMMARY:Primer coloquio de Posgrados de Artes y Humanidades
DESCRIPTION:Fecha: 1 de junio de 2022. Inscríbase para asistir
LOCATION:Edicio Mario Laserna, Universidad de los Andes, Bogotá
END:VEVENT
END:VCALENDAR
