BEGIN:VCALENDAR
VERSION:2.0
PRODID:-//Centro de Investigación y Creación - Facultad de Artes y Humanidades - Universidad de los Andes
CALSCALE:GREGORIAN
METHOD:PUBLISH
X-WR-CALNAME:Centro de Investigación y Creación - Facultad de Artes y Humanidades - Universidad de los Andes
X-ORIGINAL-URL:https://cic.uniandes.edu.co/evento/desayuno-de-bienvenida-de-la-escuela-de-posgrados-facultad-de-artes-y-humanidades/
X-WR-CALDESC:Desayuno de bienvenida de la Escuela de Posgrados Facultad de Artes y Humanidades 2022-2
BEGIN:VEVENT
DTSTART:20220813T083000
DTEND:20220813T093000
SUMMARY:Desayuno de bienvenida de la Escuela de Posgrados Facultad de Artes y Humanidades 2022-2
DESCRIPTION:Les esperamos en el campus a las 8:30 a.m.
LOCATION:Universidad de los Andes, Bogotá
END:VEVENT
END:VCALENDAR
