BEGIN:VCALENDAR
VERSION:2.0
PRODID:-//Centro de Investigación y Creación - Facultad de Artes y Humanidades - Universidad de los Andes
CALSCALE:GREGORIAN
METHOD:PUBLISH
X-WR-CALNAME:Centro de Investigación y Creación - Facultad de Artes y Humanidades - Universidad de los Andes
X-ORIGINAL-URL:https://cic.uniandes.edu.co/evento/la-docencia-en-genero-practicas-y-estrategias/
X-WR-CALDESC:Coloquio La docencia en género: prácticas y estrategias
BEGIN:VEVENT
DTSTART:20220817T083000
DTEND:20220817T120000
SUMMARY:Coloquio La docencia en género: prácticas y estrategias
DESCRIPTION:Socializaciones sobre la construcción del género sexual y las estrategias de su reproducción y transformación
LOCATION:Universidad de los Andes, Bogotá Edificio Julio Mario Santo Domingo, salón SD 1003
END:VEVENT
END:VCALENDAR
