BEGIN:VCALENDAR
VERSION:2.0
PRODID:-//Centro de Investigación y Creación - Facultad de Artes y Humanidades - Universidad de los Andes
CALSCALE:GREGORIAN
METHOD:PUBLISH
X-WR-CALNAME:Centro de Investigación y Creación - Facultad de Artes y Humanidades - Universidad de los Andes
X-ORIGINAL-URL:https://cic.uniandes.edu.co/evento/tumaco-sensorial-obra-de-teatro-de-inmersion-sensorial/
X-WR-CALDESC:Tumaco sensorial. Obra de teatro de inmersión sensorial
BEGIN:VEVENT
DTSTART:20220819T123000
DTEND:20220819T140000
SUMMARY:Tumaco sensorial. Obra de teatro de inmersión sensorial
DESCRIPTION:Inscríbase a la función para la comunidad uniandina
LOCATION:Hall Centro Cívico Universitario, Universidad de los Andes, Cra. 1A  # 19 - 20
END:VEVENT
END:VCALENDAR
