BEGIN:VCALENDAR
VERSION:2.0
PRODID:-//Centro de Investigación y Creación - Facultad de Artes y Humanidades - Universidad de los Andes
CALSCALE:GREGORIAN
METHOD:PUBLISH
X-WR-CALNAME:Centro de Investigación y Creación - Facultad de Artes y Humanidades - Universidad de los Andes
X-ORIGINAL-URL:https://cic.uniandes.edu.co/evento/exposicion-banana-craze-en-el-center-for-visual-arts-de-denver/
X-WR-CALDESC:Exposición Banana Craze en el Center for Visual Arts de Denver
BEGIN:VEVENT
DTSTART:20220826T110000
DTEND:20221022T170000
SUMMARY:Exposición Banana Craze en el Center for Visual Arts de Denver
DESCRIPTION:La fiebre del banano se presenta junto a la exposición Cultivate de Colorado
LOCATION:Center for Visual Art, Metropolitan State University of Denver, 965 Santa Fe Drive, Denver, CO, Estados Unidos
END:VEVENT
END:VCALENDAR
