BEGIN:VCALENDAR
VERSION:2.0
PRODID:-//Centro de Investigación y Creación - Facultad de Artes y Humanidades - Universidad de los Andes
CALSCALE:GREGORIAN
METHOD:PUBLISH
X-WR-CALNAME:Centro de Investigación y Creación - Facultad de Artes y Humanidades - Universidad de los Andes
X-ORIGINAL-URL:https://cic.uniandes.edu.co/evento/fata-morgana/
X-WR-CALDESC:Fata Morgana &#8211; exposición de David Peña y Edgar Guzmanruiz en LA galería
BEGIN:VEVENT
DTSTART:20220825T180000
DTEND:20220910T180000
SUMMARY:Fata Morgana &#8211; exposición de David Peña y Edgar Guzmanruiz en LA galería
DESCRIPTION:Lunes a viernes 10:00 am – 1:00 pm y 2:30 – 6:00 pm, sábados 10:00 am – 1:00 pm
LOCATION:LA galería - calle 77 # 12-03 Bogotá, Colombia 
END:VEVENT
END:VCALENDAR
