BEGIN:VCALENDAR
VERSION:2.0
PRODID:-//Centro de Investigación y Creación - Facultad de Artes y Humanidades - Universidad de los Andes
CALSCALE:GREGORIAN
METHOD:PUBLISH
X-WR-CALNAME:Centro de Investigación y Creación - Facultad de Artes y Humanidades - Universidad de los Andes
X-ORIGINAL-URL:https://cic.uniandes.edu.co/evento/inauguracion-mas-alla-bolivar/
X-WR-CALDESC:Inauguración Más allá de lo visible: la pintura de Bolivar libertador revela sus secretos
BEGIN:VEVENT
DTSTART:20220824T160000
DTEND:20220824T180000
SUMMARY:Inauguración Más allá de lo visible: la pintura de Bolivar libertador revela sus secretos
DESCRIPTION:Casa Museo Quinta de Bolivar. Calle 21 #4a-30 este, Bogotá
LOCATION:Casa Museo Quinta de Bolivar. Calle 21 #4a-30 este, Bogotá
END:VEVENT
END:VCALENDAR
