BEGIN:VCALENDAR
VERSION:2.0
PRODID:-//Centro de Investigación y Creación - Facultad de Artes y Humanidades - Universidad de los Andes
CALSCALE:GREGORIAN
METHOD:PUBLISH
X-WR-CALNAME:Centro de Investigación y Creación - Facultad de Artes y Humanidades - Universidad de los Andes
X-ORIGINAL-URL:https://cic.uniandes.edu.co/evento/open-day-de-posgrados-2/
X-WR-CALDESC:Open Day de posgrados
BEGIN:VEVENT
DTSTART:20220917T080000
DTEND:20220917T130000
SUMMARY:Open Day de posgrados
DESCRIPTION:El sábado 17 de septiembre desde las 9:00 a.m. conozca nuestro campus y programas de maestría y doctorado. Inscríbase aquí.
LOCATION:
END:VEVENT
END:VCALENDAR
