BEGIN:VCALENDAR
VERSION:2.0
PRODID:-//Centro de Investigación y Creación - Facultad de Artes y Humanidades - Universidad de los Andes
CALSCALE:GREGORIAN
METHOD:PUBLISH
X-WR-CALNAME:Centro de Investigación y Creación - Facultad de Artes y Humanidades - Universidad de los Andes
X-ORIGINAL-URL:https://cic.uniandes.edu.co/evento/condiciones-posibilidad/
X-WR-CALDESC:Lina Espinosa y Juan Alonso participan en la exposición Condiciones de posibilidad 2022
BEGIN:VEVENT
DTSTART:20220908T120000
DTEND:20220927T200000
SUMMARY:Lina Espinosa y Juan Alonso participan en la exposición Condiciones de posibilidad 2022
DESCRIPTION:En el marco del V Encuentro javeriano de arte y creatividad
LOCATION:Edificio Gerardo Arango, Pontificia Universidad Javeriana
END:VEVENT
END:VCALENDAR
