BEGIN:VCALENDAR
VERSION:2.0
PRODID:-//Centro de Investigación y Creación - Facultad de Artes y Humanidades - Universidad de los Andes
CALSCALE:GREGORIAN
METHOD:PUBLISH
X-WR-CALNAME:Centro de Investigación y Creación - Facultad de Artes y Humanidades - Universidad de los Andes
X-ORIGINAL-URL:https://cic.uniandes.edu.co/evento/semana-de-bienestar-2022-2/
X-WR-CALDESC:Semana de bienestar 2022-2
BEGIN:VEVENT
DTSTART:20221018T000000
DTEND:20221021T000000
SUMMARY:Semana de bienestar 2022-2
DESCRIPTION:Del martes 18 al viernes 18 de octubre de 2022
LOCATION:
END:VEVENT
END:VCALENDAR
