BEGIN:VCALENDAR
VERSION:2.0
PRODID:-//Centro de Investigación y Creación - Facultad de Artes y Humanidades - Universidad de los Andes
CALSCALE:GREGORIAN
METHOD:PUBLISH
X-WR-CALNAME:Centro de Investigación y Creación - Facultad de Artes y Humanidades - Universidad de los Andes
X-ORIGINAL-URL:https://cic.uniandes.edu.co/evento/charla-perifrasis-con-el-escritor-luis-arturo-ramos/
X-WR-CALDESC:Charla Perífrasis con el escritor Luis Arturo Ramos
BEGIN:VEVENT
DTSTART:20221018T160000
DTEND:20221018T180000
SUMMARY:Charla Perífrasis con el escritor Luis Arturo Ramos
DESCRIPTION:Ramos es el tema de uno de los artículos del número 27 de Perífrasis
LOCATION:Evento en línea
END:VEVENT
END:VCALENDAR
