BEGIN:VCALENDAR
VERSION:2.0
PRODID:-//Centro de Investigación y Creación - Facultad de Artes y Humanidades - Universidad de los Andes
CALSCALE:GREGORIAN
METHOD:PUBLISH
X-WR-CALNAME:Centro de Investigación y Creación - Facultad de Artes y Humanidades - Universidad de los Andes
X-ORIGINAL-URL:https://cic.uniandes.edu.co/evento/en-busqueda-de-una-nueva-vida-para-las-imagenes-de-siempre-andrea-salgado-encuentros-cic/
X-WR-CALDESC:«En búsqueda de una nueva vida para las imágenes de siempre», Andrea Salgado. Encuentros CIC
BEGIN:VEVENT
DTSTART:20230222T123000
DTEND:20230222T133000
SUMMARY:«En búsqueda de una nueva vida para las imágenes de siempre», Andrea Salgado. Encuentros CIC
DESCRIPTION:Espacios de divulgación de la investigación y la creación
LOCATION:Sala Luis Caballero, K 208, Universidad de los Andes, Bogotá
END:VEVENT
END:VCALENDAR
