BEGIN:VCALENDAR
VERSION:2.0
PRODID:-//Centro de Investigación y Creación - Facultad de Artes y Humanidades - Universidad de los Andes
CALSCALE:GREGORIAN
METHOD:PUBLISH
X-WR-CALNAME:Centro de Investigación y Creación - Facultad de Artes y Humanidades - Universidad de los Andes
X-ORIGINAL-URL:https://cic.uniandes.edu.co/evento/spolia/
X-WR-CALDESC:Exposición: Spolia: Rastros de un cine que no fue
BEGIN:VEVENT
DTSTART:20230302T163000
DTEND:20230316T170000
SUMMARY:Exposición: Spolia: Rastros de un cine que no fue
DESCRIPTION:Del 2 al 16 de marzo en la Sala de exposiciones Luis Caballero
LOCATION:Sala de exposiciones Luis Caballero. Bloque K - 208. Universidad de los Andes, Bogotá.
END:VEVENT
END:VCALENDAR
