BEGIN:VCALENDAR
VERSION:2.0
PRODID:-//Centro de Investigación y Creación - Facultad de Artes y Humanidades - Universidad de los Andes
CALSCALE:GREGORIAN
METHOD:PUBLISH
X-WR-CALNAME:Centro de Investigación y Creación - Facultad de Artes y Humanidades - Universidad de los Andes
X-ORIGINAL-URL:https://cic.uniandes.edu.co/evento/inquietud-ver/
X-WR-CALDESC:La inquietud del ver &#8211; Beatriz Grau en la galería Elvira Moreno
BEGIN:VEVENT
DTSTART:20230311T110000
DTEND:20230411T180000
SUMMARY:La inquietud del ver &#8211; Beatriz Grau en la galería Elvira Moreno
DESCRIPTION:Lunes a viernes de 10:00 a.m. a 6:00 p.m. y sábados de 11:00 a.m. a 5:00 p.m.
LOCATION:Galería Elvira Moreno. Cra. 23 # 72 a - 61, Bogotá.
END:VEVENT
END:VCALENDAR
