BEGIN:VCALENDAR
VERSION:2.0
PRODID:-//Centro de Investigación y Creación - Facultad de Artes y Humanidades - Universidad de los Andes
CALSCALE:GREGORIAN
METHOD:PUBLISH
X-WR-CALNAME:Centro de Investigación y Creación - Facultad de Artes y Humanidades - Universidad de los Andes
X-ORIGINAL-URL:https://cic.uniandes.edu.co/evento/proyecto-master-class/
X-WR-CALDESC:Aprende a pedir dinero para tu proyecto
BEGIN:VEVENT
DTSTART:20230317T100000
DTEND:20230317T100000
SUMMARY:Aprende a pedir dinero para tu proyecto
DESCRIPTION:Viernes 17 de marzo a las 10:00 a.m. 
LOCATION:Estudio intermedial. Tx 104. Universidad de los Andes, Bogotá. 
END:VEVENT
END:VCALENDAR
