BEGIN:VCALENDAR
VERSION:2.0
PRODID:-//Centro de Investigación y Creación - Facultad de Artes y Humanidades - Universidad de los Andes
CALSCALE:GREGORIAN
METHOD:PUBLISH
X-WR-CALNAME:Centro de Investigación y Creación - Facultad de Artes y Humanidades - Universidad de los Andes
X-ORIGINAL-URL:https://cic.uniandes.edu.co/evento/bullenrap-analisis-de-performance-y-musicales-comunitarios-juan-sebastian-rojas-encuentros-cic/
X-WR-CALDESC:«Bullenrap: análisis de performance y musicales comunitarios», Juan Sebastián Rojas. Encuentros CIC
BEGIN:VEVENT
DTSTART:20230412T123000
DTEND:20230412T133000
SUMMARY:«Bullenrap: análisis de performance y musicales comunitarios», Juan Sebastián Rojas. Encuentros CIC
DESCRIPTION:Espacios de divulgación de la investigación y la creación
LOCATION:Sala Luis Caballero, K 208, Universidad de los Andes, Bogotá
END:VEVENT
END:VCALENDAR
