BEGIN:VCALENDAR
VERSION:2.0
PRODID:-//Centro de Investigación y Creación - Facultad de Artes y Humanidades - Universidad de los Andes
CALSCALE:GREGORIAN
METHOD:PUBLISH
X-WR-CALNAME:Centro de Investigación y Creación - Facultad de Artes y Humanidades - Universidad de los Andes
X-ORIGINAL-URL:https://cic.uniandes.edu.co/evento/segundo-coloquio-docencia-en-genero/
X-WR-CALDESC:Segundo Coloquio La docencia en género: prácticas y estrategias
BEGIN:VEVENT
DTSTART:20230427T083000
DTEND:20230427T103000
SUMMARY:Segundo Coloquio La docencia en género: prácticas y estrategias
DESCRIPTION:Construcción cultural del género sexual y las estrategias de su reproducción y transformación.
LOCATION:Universidad de los Andes, Bogotá. Salón SD 715 -edificio Julio Mario Santo Domingo
END:VEVENT
END:VCALENDAR
