BEGIN:VCALENDAR
VERSION:2.0
PRODID:-//Centro de Investigación y Creación - Facultad de Artes y Humanidades - Universidad de los Andes
CALSCALE:GREGORIAN
METHOD:PUBLISH
X-WR-CALNAME:Centro de Investigación y Creación - Facultad de Artes y Humanidades - Universidad de los Andes
X-ORIGINAL-URL:https://cic.uniandes.edu.co/evento/plano-moda/
X-WR-CALDESC:El plano de la moda: revestir, vestir y travestir | Charla con Barbarita Cardozo y Juan Mejía
BEGIN:VEVENT
DTSTART:20230503T170000
DTEND:20230503T190000
SUMMARY:El plano de la moda: revestir, vestir y travestir | Charla con Barbarita Cardozo y Juan Mejía
DESCRIPTION:Miércoles 3 de mayo a las 5:00 p.m.
LOCATION:Sala de exposiciones Luis Caballero. K 208. Universidad de los Andes, Bogotá
END:VEVENT
END:VCALENDAR
