BEGIN:VCALENDAR
VERSION:2.0
PRODID:-//Centro de Investigación y Creación - Facultad de Artes y Humanidades - Universidad de los Andes
CALSCALE:GREGORIAN
METHOD:PUBLISH
X-WR-CALNAME:Centro de Investigación y Creación - Facultad de Artes y Humanidades - Universidad de los Andes
X-ORIGINAL-URL:https://cic.uniandes.edu.co/evento/church-fathers-responses-to-the-challenges-of-artificial-intelligence-vladimir-cvetkovic-encuentros-cic/
X-WR-CALDESC:«Church Fathers&#8217; Responses to the Challenges of Artificial Intelligence», Vladimir Cvetkovic. Encuentros CIC
BEGIN:VEVENT
DTSTART:20230510T123000
DTEND:20230510T133000
SUMMARY:«Church Fathers&#8217; Responses to the Challenges of Artificial Intelligence», Vladimir Cvetkovic. Encuentros CIC
DESCRIPTION:Espacios de divulgación de la investigación y la creación
LOCATION:Sala Luis Caballero, K 208, Universidad de los Andes, Bogotá
END:VEVENT
END:VCALENDAR
