BEGIN:VCALENDAR
VERSION:2.0
PRODID:-//Centro de Investigación y Creación - Facultad de Artes y Humanidades - Universidad de los Andes
CALSCALE:GREGORIAN
METHOD:PUBLISH
X-WR-CALNAME:Centro de Investigación y Creación - Facultad de Artes y Humanidades - Universidad de los Andes
X-ORIGINAL-URL:https://cic.uniandes.edu.co/evento/mesa-editorial-h-art-1/
X-WR-CALDESC:Lanzamiento de Mesa Editorial H-ART en Instagram Live
BEGIN:VEVENT
DTSTART:20230622T100000
DTEND:20230622T110000
SUMMARY:Lanzamiento de Mesa Editorial H-ART en Instagram Live
DESCRIPTION:Participan Patricia Zalamea y Ana María Zapata
LOCATION:Evento en línea
END:VEVENT
END:VCALENDAR
