BEGIN:VCALENDAR
VERSION:2.0
PRODID:-//Centro de Investigación y Creación - Facultad de Artes y Humanidades - Universidad de los Andes
CALSCALE:GREGORIAN
METHOD:PUBLISH
X-WR-CALNAME:Centro de Investigación y Creación - Facultad de Artes y Humanidades - Universidad de los Andes
X-ORIGINAL-URL:https://cic.uniandes.edu.co/evento/las-mujeres-en-la-educacion-superior/
X-WR-CALDESC:Las mujeres en la educación superior
BEGIN:VEVENT
DTSTART:20230830T000000
DTEND:20230830T000000
SUMMARY:Las mujeres en la educación superior
DESCRIPTION:Encuentro académico que reunirá a decanas destacadas de Ciencias Sociales y Humanas, para reflexionar sobre su papel y los desafíos en el ámbito académico.
LOCATION:Auditorio 1, bloque H. Universidad Externado de Colombia, Calle 12 1-17 este. Bogotá, Colombia.
END:VEVENT
END:VCALENDAR
