BEGIN:VCALENDAR
VERSION:2.0
PRODID:-//Centro de Investigación y Creación - Facultad de Artes y Humanidades - Universidad de los Andes
CALSCALE:GREGORIAN
METHOD:PUBLISH
X-WR-CALNAME:Centro de Investigación y Creación - Facultad de Artes y Humanidades - Universidad de los Andes
X-ORIGINAL-URL:https://cic.uniandes.edu.co/evento/visitas-guiadas-11-14-08-23/
X-WR-CALDESC:Visitas guiadas en Marta Traba 4 veces: 11 y 14 de septiembre de 2023
BEGIN:VEVENT
DTSTART:
DTEND:
SUMMARY:Visitas guiadas en Marta Traba 4 veces: 11 y 14 de septiembre de 2023
DESCRIPTION:Con Lina Garzón, Nicolás Perilla, Laura Zamudio y Michelt Guarín
LOCATION:
END:VEVENT
END:VCALENDAR
