BEGIN:VCALENDAR
VERSION:2.0
PRODID:-//Centro de Investigación y Creación - Facultad de Artes y Humanidades - Universidad de los Andes
CALSCALE:GREGORIAN
METHOD:PUBLISH
X-WR-CALNAME:Centro de Investigación y Creación - Facultad de Artes y Humanidades - Universidad de los Andes
X-ORIGINAL-URL:https://cic.uniandes.edu.co/evento/viernes-modeo-marta-traba-cuatro-veces-29/
X-WR-CALDESC:Viernes de modelo en Marta Traba 4 veces, miradas desde su archivo &#8211; 29 de septiembre
BEGIN:VEVENT
DTSTART:20230929T140000
DTEND:20230929T170000
SUMMARY:Viernes de modelo en Marta Traba 4 veces, miradas desde su archivo &#8211; 29 de septiembre
DESCRIPTION:Viernes 29 de septiembre de 2:00 a 5:00 p.m.
LOCATION:Sala de exposiciones Colpatria del Centro Cívico Universitario. Cra. 1 N° 19 - 20, Bogotá.
END:VEVENT
END:VCALENDAR
