BEGIN:VCALENDAR
VERSION:2.0
PRODID:-//Centro de Investigación y Creación - Facultad de Artes y Humanidades - Universidad de los Andes
CALSCALE:GREGORIAN
METHOD:PUBLISH
X-WR-CALNAME:Centro de Investigación y Creación - Facultad de Artes y Humanidades - Universidad de los Andes
X-ORIGINAL-URL:https://cic.uniandes.edu.co/evento/visitas-guiadas-marta-traba-25-28-de-sept-23/
X-WR-CALDESC:Visitas guiadas en Marta Traba 4 veces, 25 y 28 de septiembre de 2023
BEGIN:VEVENT
DTSTART:20230925T110000
DTEND:20230928T120000
SUMMARY:Visitas guiadas en Marta Traba 4 veces, 25 y 28 de septiembre de 2023
DESCRIPTION:Con Lina Garzón, Nicolás Gómez, Catalina Silva y Juanita Bayona
LOCATION:Sala de exposiciones Colpatria del Centro Cívico Universitario. Cra. 1 N° 19 - 20, Bogotá.
END:VEVENT
END:VCALENDAR
