BEGIN:VCALENDAR
VERSION:2.0
PRODID:-//Centro de Investigación y Creación - Facultad de Artes y Humanidades - Universidad de los Andes
CALSCALE:GREGORIAN
METHOD:PUBLISH
X-WR-CALNAME:Centro de Investigación y Creación - Facultad de Artes y Humanidades - Universidad de los Andes
X-ORIGINAL-URL:https://cic.uniandes.edu.co/evento/imaginar-un-museo-moderno-marta-traba-y-el-mambo/
X-WR-CALDESC:Imaginar un museo moderno: Marta Traba y el MAMBO
BEGIN:VEVENT
DTSTART:20231012T160000
DTEND:20231012T170000
SUMMARY:Imaginar un museo moderno: Marta Traba y el MAMBO
DESCRIPTION:Con Sofía Aguilar, David Cohen, David Julián Cortés y Elías Doria 
LOCATION:Sala de exposiciones Colpatria del Centro Cívico Universitario. Cra. 1 N° 19 - 20, Bogotá.
END:VEVENT
END:VCALENDAR
