BEGIN:VCALENDAR
VERSION:2.0
PRODID:-//Centro de Investigación y Creación - Facultad de Artes y Humanidades - Universidad de los Andes
CALSCALE:GREGORIAN
METHOD:PUBLISH
X-WR-CALNAME:Centro de Investigación y Creación - Facultad de Artes y Humanidades - Universidad de los Andes
X-ORIGINAL-URL:https://cic.uniandes.edu.co/evento/conversatorio-perifrasis-narrar-a-las-victimas-del-conflicto-en-peru/
X-WR-CALDESC:Conversatorio <i>Perífrasis</i>: Narrar a las víctimas del conflicto en Perú
BEGIN:VEVENT
DTSTART:20231011T160000
DTEND:20231011T170000
SUMMARY:Conversatorio <i>Perífrasis</i>: Narrar a las víctimas del conflicto en Perú
DESCRIPTION:Segundo conversatorio Perífrasis de la franja 2023
LOCATION:Evento en línea
END:VEVENT
END:VCALENDAR
