BEGIN:VCALENDAR
VERSION:2.0
PRODID:-//Centro de Investigación y Creación - Facultad de Artes y Humanidades - Universidad de los Andes
CALSCALE:GREGORIAN
METHOD:PUBLISH
X-WR-CALNAME:Centro de Investigación y Creación - Facultad de Artes y Humanidades - Universidad de los Andes
X-ORIGINAL-URL:https://cic.uniandes.edu.co/evento/tipologia-sillas-santiago-forero-sala-luis-caballero/
X-WR-CALDESC:Tipología de sillas, Santiago Forero en la Sala Luis Caballero
BEGIN:VEVENT
DTSTART:20231013T163000
DTEND:20231024T170000
SUMMARY:Tipología de sillas, Santiago Forero en la Sala Luis Caballero
DESCRIPTION:Del 13 al 24 de octubre de 2023 
LOCATION:Sala Luis Caballero. Bloque K-208. Universidad de los Andes, Bogotá. 
END:VEVENT
END:VCALENDAR
