BEGIN:VCALENDAR
VERSION:2.0
PRODID:-//Centro de Investigación y Creación - Facultad de Artes y Humanidades - Universidad de los Andes
CALSCALE:GREGORIAN
METHOD:PUBLISH
X-WR-CALNAME:Centro de Investigación y Creación - Facultad de Artes y Humanidades - Universidad de los Andes
X-ORIGINAL-URL:https://cic.uniandes.edu.co/evento/conversatorio-perifrasis-las-revistas-culturales-la-risa-y-las-formas-de-la-censura/
X-WR-CALDESC:Conversatorio <i>Perífrasis</i>: «Las revistas culturales, la risa y las formas de la censura»
BEGIN:VEVENT
DTSTART:20231025T160000
DTEND:20231025T170000
SUMMARY:Conversatorio <i>Perífrasis</i>: «Las revistas culturales, la risa y las formas de la censura»
DESCRIPTION:Tercer conversatorio Perífrasis de la franja 2023
LOCATION:Evento en línea
END:VEVENT
END:VCALENDAR
