BEGIN:VCALENDAR
VERSION:2.0
PRODID:-//Centro de Investigación y Creación - Facultad de Artes y Humanidades - Universidad de los Andes
CALSCALE:GREGORIAN
METHOD:PUBLISH
X-WR-CALNAME:Centro de Investigación y Creación - Facultad de Artes y Humanidades - Universidad de los Andes
X-ORIGINAL-URL:https://cic.uniandes.edu.co/evento/conversatorio-perifrasis-endorracismo-y-literatura/
X-WR-CALDESC:Conversatorio <i>Perífrasis</i>: «Endorracismo y literatura»
BEGIN:VEVENT
DTSTART:20231101T160000
DTEND:20231101T170000
SUMMARY:Conversatorio <i>Perífrasis</i>: «Endorracismo y literatura»
DESCRIPTION:Cuarto conversatorio Perífrasis de la franja 2023
LOCATION:Evento en línea
END:VEVENT
END:VCALENDAR
