BEGIN:VCALENDAR
VERSION:2.0
PRODID:-//Centro de Investigación y Creación - Facultad de Artes y Humanidades - Universidad de los Andes
CALSCALE:GREGORIAN
METHOD:PUBLISH
X-WR-CALNAME:Centro de Investigación y Creación - Facultad de Artes y Humanidades - Universidad de los Andes
X-ORIGINAL-URL:https://cic.uniandes.edu.co/evento/conversatorio-perifrasis-con-carolina-repetto-y-diego-vigna/
X-WR-CALDESC:Conversatorio <i>Perífrasis</i> con Carolina Repetto y Diego Vigna
BEGIN:VEVENT
DTSTART:20231115T160000
DTEND:20231115T170000
SUMMARY:Conversatorio <i>Perífrasis</i> con Carolina Repetto y Diego Vigna
DESCRIPTION:Último conversatorio Perífrasis de la franja 2023
LOCATION:Evento en línea
END:VEVENT
END:VCALENDAR
