BEGIN:VCALENDAR
VERSION:2.0
PRODID:-//Centro de Investigación y Creación - Facultad de Artes y Humanidades - Universidad de los Andes
CALSCALE:GREGORIAN
METHOD:PUBLISH
X-WR-CALNAME:Centro de Investigación y Creación - Facultad de Artes y Humanidades - Universidad de los Andes
X-ORIGINAL-URL:https://cic.uniandes.edu.co/evento/presentacion-del-libro-originales-multiples-el-grabado-en-los-albores-de-la-imprenta/
X-WR-CALDESC:Presentación del libro | Originales múltiples: El grabado en los albores de la imprenta
BEGIN:VEVENT
DTSTART:20231123T170000
DTEND:20231123T183000
SUMMARY:Presentación del libro | Originales múltiples: El grabado en los albores de la imprenta
DESCRIPTION:Ediciones Uniandes y la Facultad de Artes y Humanidades de la Universidad de los Andes presentan el libro Originales múltiples de Patricia Zalamea
LOCATION:
END:VEVENT
END:VCALENDAR
