BEGIN:VCALENDAR
VERSION:2.0
PRODID:-//Centro de Investigación y Creación - Facultad de Artes y Humanidades - Universidad de los Andes
CALSCALE:GREGORIAN
METHOD:PUBLISH
X-WR-CALNAME:Centro de Investigación y Creación - Facultad de Artes y Humanidades - Universidad de los Andes
X-ORIGINAL-URL:https://cic.uniandes.edu.co/evento/relanzamiento-de-la-exposicion-banana-craze/
X-WR-CALDESC:Relanzamiento de la exposición Banana Craze
BEGIN:VEVENT
DTSTART:20231129T130000
DTEND:20231129T150000
SUMMARY:Relanzamiento de la exposición Banana Craze
DESCRIPTION:Evento en línea con Macarena Gómez-Barris
LOCATION:Evento en línea
END:VEVENT
END:VCALENDAR
