BEGIN:VCALENDAR
VERSION:2.0
PRODID:-//Centro de Investigación y Creación - Facultad de Artes y Humanidades - Universidad de los Andes
CALSCALE:GREGORIAN
METHOD:PUBLISH
X-WR-CALNAME:Centro de Investigación y Creación - Facultad de Artes y Humanidades - Universidad de los Andes
X-ORIGINAL-URL:https://cic.uniandes.edu.co/evento/las-fortificaciones-de-san-lazaro/
X-WR-CALDESC:Las fortificaciones de San Lázaro.
BEGIN:VEVENT
DTSTART:20231130T153000
DTEND:20231130T170000
SUMMARY:Las fortificaciones de San Lázaro.
DESCRIPTION:Inauguración: jueves 30 de noviembre de 2023, 3:30 p.m.
LOCATION:Castillo de San Felipe, Cartagena de Indias
END:VEVENT
END:VCALENDAR
