BEGIN:VCALENDAR
VERSION:2.0
PRODID:-//Centro de Investigación y Creación - Facultad de Artes y Humanidades - Universidad de los Andes
CALSCALE:GREGORIAN
METHOD:PUBLISH
X-WR-CALNAME:Centro de Investigación y Creación - Facultad de Artes y Humanidades - Universidad de los Andes
X-ORIGINAL-URL:https://cic.uniandes.edu.co/evento/lanzamiento-del-libro-como-nacio-colombia-un-pais-en-construccion/
X-WR-CALDESC:Lanzamiento del libro: Cómo nació Colombia. Un país en construcción
BEGIN:VEVENT
DTSTART:20231206T173000
DTEND:20231206T190000
SUMMARY:Lanzamiento del libro: Cómo nació Colombia. Un país en construcción
DESCRIPTION:Miércoles 6 de diciembre de 2023, 5:30 p.m.
LOCATION:Biblioteca Nacional de Colombia,  Auditorio Aurelio Arturo
END:VEVENT
END:VCALENDAR
