BEGIN:VCALENDAR
VERSION:2.0
PRODID:-//Centro de Investigación y Creación - Facultad de Artes y Humanidades - Universidad de los Andes
CALSCALE:GREGORIAN
METHOD:PUBLISH
X-WR-CALNAME:Centro de Investigación y Creación - Facultad de Artes y Humanidades - Universidad de los Andes
X-ORIGINAL-URL:https://cic.uniandes.edu.co/evento/codice-futuro/
X-WR-CALDESC:Códice futuro
BEGIN:VEVENT
DTSTART:20240309T140000
DTEND:20240309T180000
SUMMARY:Códice futuro
DESCRIPTION:Inauguración sábado 9 de marzo de 2024
LOCATION:Sala E. Cinemateca de Bogotá , carrera 3 19-10. Bogotá Colombia
END:VEVENT
END:VCALENDAR
