BEGIN:VCALENDAR
VERSION:2.0
PRODID:-//Centro de Investigación y Creación - Facultad de Artes y Humanidades - Universidad de los Andes
CALSCALE:GREGORIAN
METHOD:PUBLISH
X-WR-CALNAME:Centro de Investigación y Creación - Facultad de Artes y Humanidades - Universidad de los Andes
X-ORIGINAL-URL:https://cic.uniandes.edu.co/evento/conversatorio-transculturalidad-critica/
X-WR-CALDESC:Conversatorio: &#8216;Transculturalidad crítica&#8217;
BEGIN:VEVENT
DTSTART:20240320T040000
DTEND:20240320T173000
SUMMARY:Conversatorio: &#8216;Transculturalidad crítica&#8217;
DESCRIPTION:Evento en línea | miércoles 20 de marzo.  | 4:00 p.m. (hora Colombia).
LOCATION:Evento en línea
END:VEVENT
END:VCALENDAR
